BEGIN:VCALENDAR
VERSION:2.0
PRODID:-//ChamberMaster//Event Calendar 2.0//EN
METHOD:PUBLISH
X-PUBLISHED-TTL:P3D
REFRESH-INTERVAL:P3D
CALSCALE:GREGORIAN
BEGIN:VEVENT
DTSTART:20170615T160000Z
DTEND:20170615T180000Z
X-MICROSOFT-CDO-ALLDAYEVENT:FALSE
SUMMARY:ACC-OC Infrastructure Tour
DESCRIPTION:Join ACC-OC and see how West Coast Arborists\, Inc. has elevated the approach to tree care by capitalizing on technology\, in turn changing the tree maintenance and management practices of yesterday. From helping public agencies mitigate risk associated with their tree population\, to contract compliance\, occupational safety\, fleet management\, to emergency dispatch and response\, West Coast Arborists\, Inc. remains to be the professionals leading the industry in breakthrough methods of management.
X-ALT-DESC;FMTTYPE=text/html:Join ACC-OC and see how West Coast Arborists\, Inc. has elevated the approach to tree care by capitalizing on technology\, in turn changing the tree maintenance and management practices of yesterday. From helping public agencies mitigate risk associated with their tree population\, to contract compliance\, occupational safety\, fleet management\, to emergency dispatch and response\, West Coast Arborists\, Inc. remains to be the professionals leading the industry in breakthrough methods of management.
LOCATION:West Coast Arborists Inc. 2200 E. Via Burton St. Anaheim\, CA 92806
UID:e.887.16170
SEQUENCE:3
DTSTAMP:20260421T034124Z
URL:https://business.nocchamber.com/events/details/acc-oc-infrastructure-tour-16170
END:VEVENT

END:VCALENDAR
