BEGIN:VCALENDAR
VERSION:2.0
PRODID:-//ChamberMaster//Event Calendar 2.0//EN
METHOD:PUBLISH
X-PUBLISHED-TTL:P3D
REFRESH-INTERVAL:P3D
CALSCALE:GREGORIAN
BEGIN:VEVENT
DTSTART:20170725T150000Z
DTEND:20170725T193000Z
X-MICROSOFT-CDO-ALLDAYEVENT:FALSE
SUMMARY:ACC-OC Continuum of Care Tour
DESCRIPTION:Join ACC-OC on an interactive bus tour to learn about the different housing opportunities and support services meant to reduce the homeless population in Orange County.
X-ALT-DESC;FMTTYPE=text/html:Join ACC-OC on an interactive bus tour to learn about the different housing opportunities and support services meant to reduce the homeless population in Orange County.
LOCATION:Main Place Mall\, JCPenny Parking Lot 2800 N Main St.\, Santa Ana\, CA 92705
UID:e.887.16238
SEQUENCE:3
DTSTAMP:20260421T015221Z
URL:https://business.nocchamber.com/events/details/acc-oc-continuum-of-care-tour-16238
END:VEVENT

END:VCALENDAR
