BEGIN:VCALENDAR
VERSION:2.0
PRODID:-//ChamberMaster//Event Calendar 2.0//EN
METHOD:PUBLISH
X-PUBLISHED-TTL:P3D
REFRESH-INTERVAL:P3D
CALSCALE:GREGORIAN
BEGIN:VEVENT
DTSTART:20191117T010000Z
DTEND:20191117T040000Z
X-MICROSOFT-CDO-ALLDAYEVENT:FALSE
SUMMARY:A Walk Among the Stars: 30th Anniversary Gala & Fashion Show
DESCRIPTION:St. Jude Medical Center's annual celebration of survivorship and courage reaches its 30th year. It will be a memorable gala event featuring a three course dinner\, live music and dancing\, silent auction\, champagne reception\, and the highlight of the evening: a show-stopping fashion show featuring St. Jude cancer patients and survivors.\n\nThis year's event will benefit towards completing the conversion of the St. Jude's Kathryn T. MCarty Breast Center to state-of-the-art 3D mammography.
X-ALT-DESC;FMTTYPE=text/html:<p>St. Jude Medical Center&#39\;s annual celebration of survivorship and courage reaches its 30th year. It will be a memorable gala event featuring a three course dinner\, live music and dancing\, silent auction\, champagne reception\, and the highlight of the evening: a show-stopping fashion show featuring St. Jude cancer patients and survivors.</p>\n\n<p>This year&rsquo\;s event will benefit towards completing the conversion of the St. Jude&rsquo\;s Kathryn T. MCarty Breast Center to state-of-the-art 3D mammography.</p>\n
LOCATION:Anaheim Marriott 700 W. Convention Way Anaheim\, CA\, 92802
UID:e.887.23760
SEQUENCE:3
DTSTAMP:20260421T220144Z
URL:https://business.nocchamber.com/events/details/a-walk-among-the-stars-30th-anniversary-gala-fashion-show-23760
END:VEVENT

END:VCALENDAR
