BEGIN:VCALENDAR
VERSION:2.0
PRODID:-//ChamberMaster//Event Calendar 2.0//EN
METHOD:PUBLISH
X-PUBLISHED-TTL:P3D
REFRESH-INTERVAL:P3D
CALSCALE:GREGORIAN
BEGIN:VEVENT
DTSTART:20170701T013000Z
DTEND:20170701T043000Z
X-MICROSOFT-CDO-ALLDAYEVENT:FALSE
SUMMARY:A Taste of Exotic Mexican Cuisine & Mezcal
DESCRIPTION:The Muckenthaler Cultural Center invites guests for a taste of exotic Mexican cuisine and Mezcal on Friday\, June 30\, 2017. This will be a special opportunity to sample less familiar authentic cuisines from different regions of Mexico. "Mexican Food" has become a staple of United States cuisine opportunities o experience authentic fare from the many diverse regions of the country can be rare. Guests will embark on a culinary tour of Mexico with chefs representing Puebla\, Guerrero\, Chiapas\, Oaxaca\, Jalisco and the state of Mexico with Mezcal from Oaxaca. Fullerton's own Bootlegger's Brewery  supplies seasonal brews for this occasion along with Sangria provided by Cafe Hidalgo.
X-ALT-DESC;FMTTYPE=text/html:The Muckenthaler Cultural Center invites guests for a taste of exotic Mexican cuisine and Mezcal on Friday\, June 30\, 2017. This will be a special opportunity to sample less familiar authentic cuisines from different regions of Mexico. &quot\;Mexican Food&quot\; has become a staple of United States cuisine opportunities o experience authentic fare from the many diverse regions of the country can be rare. Guests will embark on a culinary tour of Mexico with chefs representing Puebla\, Guerrero\, Chiapas\, Oaxaca\, Jalisco and the state of Mexico with Mezcal from Oaxaca. Fullerton&#39\;s own Bootlegger&#39\;s Brewery &nbsp\;supplies seasonal brews for this occasion along with Sangria provided by Cafe Hidalgo.
LOCATION:Muckenthaler Cultural Center 1201 West Malvern Avenue Fullerton CA 92833
UID:e.887.16233
SEQUENCE:3
DTSTAMP:20260421T015317Z
URL:https://business.nocchamber.com/events/details/a-taste-of-exotic-mexican-cuisine-mezcal-16233
END:VEVENT

END:VCALENDAR
