BEGIN:VCALENDAR
VERSION:2.0
PRODID:-//ChamberMaster//Event Calendar 2.0//EN
METHOD:PUBLISH
X-PUBLISHED-TTL:P3D
REFRESH-INTERVAL:P3D
CALSCALE:GREGORIAN
BEGIN:VEVENT
DTSTART:20180804T013000Z
DTEND:20180804T043000Z
X-MICROSOFT-CDO-ALLDAYEVENT:FALSE
SUMMARY:A Taste of Exotic Mexican Cruise & Mezcal
DESCRIPTION:In partnership with The Consulate of Mexico in Santa Ana & The Orange County Hispanic Chamber of Commerce\, a special opportunity to sample less familiar authentic cuisine from different regions of Mexico. Though "Mexican Food" has become a staple of United States cuisine\, opportunities to experience authentic fare from the many diverse regions of the country can be rare. Guests will embark on a culinary tour of Mexico with chefs representing many areas.\n\n \n\nFeaturing nine restaurants:\n\n\n	     El Governador - Chef Jesse Far as\n	     El Mestizo - Chef Rogelio Mart nez\n	     Gloria?s Pueblito - Chef Juan San Juan\n	     Hilda Covarrubias Banquet - Executive Chef Hilda Covarrubias\n	     La Huasteca - Chef Sebasti n Reyes\n	     MG - Chef Martin Guerrero\n	     Tacos Burrari - Chef Eddie Moran\n	     Tlaquepaque - Chef Rosalina Davis\n	     Urbana - Chef Javier Cuadra\n\n\n Enjoy live music\, incredible food\, mezcal and tequila tastings\, and peruse a display of hand-crafted goods from various regions of Mexico\, including Chiapas\, Guerrero\, Jalisco\, Oaxaca\, and Puebla.
X-ALT-DESC;FMTTYPE=text/html:<p>In partnership with The Consulate of Mexico in Santa Ana &amp\; The Orange County Hispanic Chamber of Commerce\, a special opportunity to sample less familiar authentic cuisine from different regions of Mexico. Though &quot\;Mexican Food&quot\; has become a staple of United States cuisine\, opportunities to experience authentic fare from the many diverse regions of the country can be rare. Guests will embark on a culinary tour of Mexico with chefs representing many areas.<br />\n&nbsp\;<br />\nFeaturing nine restaurants:</p>\n\n<ol>\n	<li>&nbsp\;&nbsp\;&nbsp\;&nbsp\; El Governador - Chef Jesse Far&iacute\;as</li>\n	<li>&nbsp\;&nbsp\;&nbsp\;&nbsp\; El Mestizo - Chef Rogelio Mart&iacute\;nez</li>\n	<li>&nbsp\;&nbsp\;&nbsp\;&nbsp\; Gloria?s Pueblito - Chef Juan San Juan</li>\n	<li>&nbsp\;&nbsp\;&nbsp\;&nbsp\; Hilda Covarrubias Banquet - Executive Chef Hilda Covarrubias</li>\n	<li>&nbsp\;&nbsp\;&nbsp\;&nbsp\; La Huasteca - Chef Sebasti&aacute\;n Reyes</li>\n	<li>&nbsp\;&nbsp\;&nbsp\;&nbsp\; MG - Chef Martin Guerrero</li>\n	<li>&nbsp\;&nbsp\;&nbsp\;&nbsp\; Tacos Burrari - Chef Eddie Moran</li>\n	<li>&nbsp\;&nbsp\;&nbsp\;&nbsp\; Tlaquepaque - Chef Rosalina Davis</li>\n	<li>&nbsp\;&nbsp\;&nbsp\;&nbsp\; Urbana - Chef Javier Cuadra</li>\n</ol>\n\n<p>&nbsp\;Enjoy live music\, incredible food\, mezcal and tequila tastings\, and peruse a display of hand-crafted goods from various regions of Mexico\, including Chiapas\, Guerrero\, Jalisco\, Oaxaca\, and Puebla.</p>\n
LOCATION:The Muckenthaler Cultural Center 1201 W. Malvern Ave. Fullerton\, CA 92833
UID:e.887.22534
SEQUENCE:3
DTSTAMP:20260422T091456Z
URL:https://business.nocchamber.com/events/details/a-taste-of-exotic-mexican-cruise-mezcal-22534
END:VEVENT

END:VCALENDAR
