BEGIN:VCALENDAR
VERSION:2.0
PRODID:-//ChamberMaster//Event Calendar 2.0//EN
METHOD:PUBLISH
X-PUBLISHED-TTL:P3D
REFRESH-INTERVAL:P3D
CALSCALE:GREGORIAN
BEGIN:VEVENT
DTSTART:20200624T170000Z
DTEND:20200624T171500Z
X-MICROSOFT-CDO-ALLDAYEVENT:FALSE
SUMMARY:A Simple Recipe for Social Media
DESCRIPTION:Social media can be overwhelming and often feels like you're just spinning your wheels. In a time of such uncertainty it's important to know where to be\, how to be engaging\, and how to get results - all with a limited amount of time and resources.\n\n\n\nIn this webinar\, Digital Marketing Expert Jenna Shaffer will provide a recipe for social media that saves time and gets results to grow your business.\n\n\n\nYou'll learn:\n\n	Which platforms are best for your business to be communicating through\, right now\n	The 15-minute social media plan to strategically execute your strategy\n	Getting started in the pay-to-play world of social media
X-ALT-DESC;FMTTYPE=text/html:Social media can be overwhelming and often feels like you&rsquo\;re just spinning your wheels. In a time of such uncertainty it&rsquo\;s important to know where to be\, how to be engaging\, and how to get results - all with a limited amount of time and resources.<br />\n<br />\n<span style="font-size:12px\;"><span style="font-family:arial\;">In this webinar\, Digital Marketing Expert Jenna Shaffer will provide a recipe for social media that saves time and gets results to grow your business.<br />\n<br />\nYou&rsquo\;ll learn:</span></span>\n<ul>\n	<li><span style="font-size:12px\;"><span style="font-family:arial\;">Which platforms are best for your business to be communicating through\, right now</span></span></li>\n	<li><span style="font-size:12px\;"><span style="font-family:arial\;">The 15-minute social media plan to strategically execute your strategy</span></span></li>\n	<li><span style="font-size:12px\;"><span style="font-family:arial\;">Getting started in the pay-to-play world of social media</span></span></li>\n</ul>\n
LOCATION:Online Webinar
UID:e.887.24427
SEQUENCE:3
DTSTAMP:20260421T142643Z
URL:https://business.nocchamber.com/events/details/a-simple-recipe-for-social-media-24427
END:VEVENT

END:VCALENDAR
