BEGIN:VCALENDAR
VERSION:2.0
PRODID:-//ChamberMaster//Event Calendar 2.0//EN
METHOD:PUBLISH
X-PUBLISHED-TTL:P3D
REFRESH-INTERVAL:P3D
CALSCALE:GREGORIAN
BEGIN:VEVENT
DTSTART:20190222T033000Z
DTEND:20190222T050000Z
X-MICROSOFT-CDO-ALLDAYEVENT:FALSE
SUMMARY:A Celebration of the Muckenthaler Legacy
DESCRIPTION:A Celebration of the Muckenthaler Legacy\n\nThursday\, February 21\, 2019\, at 7:30 p.m.\n\n$30 non-member\, $20 student/senior\, $15 member\n\n\n\nThe Muckenthaler Cultural Center's annual legacy celebration for the family is open to the public. Last year\, they revealed their newly restored Muckenthaler stained glass window. This year they are unveiling a 19th Century portrait of Walter's parents\, Albert and Augusta Muckenthaler that hasn't been seen for close to half a century. Meet with the descendants of the Muckenthaler Family as they celebrate their heritage in their ancestral home.
X-ALT-DESC;FMTTYPE=text/html:A Celebration of the Muckenthaler Legacy<br />\nThursday\, February 21\, 2019\, at 7:30 p.m.<br />\n$30 non-member\, $20 student/senior\, $15 member<br />\n<br />\nThe Muckenthaler Cultural Center&#39\;s annual legacy celebration for the family is open to the public. Last year\, they revealed their newly restored Muckenthaler stained glass window. This year they are unveiling a 19th Century portrait of Walter&rsquo\;s parents\, Albert and Augusta Muckenthaler that hasn&rsquo\;t been seen for close to half a century. Meet with the descendants of the Muckenthaler Family as they celebrate their heritage in their ancestral home.
LOCATION:Muckenthaler Cultural Center 1201 West Malvern Ave. Fullerton\, CA 92833
UID:e.887.22913
SEQUENCE:3
DTSTAMP:20260422T091704Z
URL:https://business.nocchamber.com/events/details/a-celebration-of-the-muckenthaler-legacy-22913
END:VEVENT

END:VCALENDAR
