BEGIN:VCALENDAR
VERSION:2.0
PRODID:-//ChamberMaster//Event Calendar 2.0//EN
METHOD:PUBLISH
X-PUBLISHED-TTL:P3D
REFRESH-INTERVAL:P3D
CALSCALE:GREGORIAN
BEGIN:VEVENT
DTSTART:20180311T190000Z
DTEND:20180311T220000Z
X-MICROSOFT-CDO-ALLDAYEVENT:FALSE
SUMMARY:5th Annual Wedding Show Weekend
DESCRIPTION:The Los Coyotes Country Club is hosting the 5th Annual Wedding Show Weekend on Sunday\, March 11\, 2018. The event will showcase vendors for wedding rentals\, photography\, bakeries\, florists\, invitations\, DJ's\, entertainment\, and more. \n\n\n\nFor more information send an email to eventsadmin@loscoyotescc.com or call (714) 994- 7750.
X-ALT-DESC;FMTTYPE=text/html:The Los Coyotes Country Club is hosting the 5th Annual&nbsp\;Wedding Show Weekend on Sunday\, March 11\, 2018. The event will showcase vendors for wedding rentals\, photography\, bakeries\, florists\, invitations\, DJ&#39\;s\, entertainment\, and more.&nbsp\;<br />\n<br />\nFor more information send an email to eventsadmin@loscoyotescc.com or call (714) 994- 7750.&nbsp\;
LOCATION:Los Coyotes Country Club 8888 Los Coyotes Dr. Buena Park\, CA 90621
UID:e.887.17782
SEQUENCE:3
DTSTAMP:20260422T002544Z
URL:https://business.nocchamber.com/events/details/5th-annual-wedding-show-weekend-17782
END:VEVENT

END:VCALENDAR
