BEGIN:VCALENDAR
VERSION:2.0
PRODID:-//ChamberMaster//Event Calendar 2.0//EN
METHOD:PUBLISH
X-PUBLISHED-TTL:P3D
REFRESH-INTERVAL:P3D
CALSCALE:GREGORIAN
BEGIN:VEVENT
DTSTART:20190518T150000Z
DTEND:20190518T210000Z
X-MICROSOFT-CDO-ALLDAYEVENT:FALSE
SUMMARY:25th Anniversary Muckenthaler Motor Car Festival
DESCRIPTION:Hot Rods & Customs Show\n\nCelebrate a quarter century of the car show with stunning vehicles and vintage trailers that demonstrate originality and authenticity while valuing design\, styling and elegance. ON STAGE MAY 18: THE DARDENS \\ 11:00 a.m. - 2 p.m.
X-ALT-DESC;FMTTYPE=text/html:<p>Hot Rods &amp\; Customs Show</p>\n\n<p>Celebrate a quarter century of the car show with stunning vehicles and vintage trailers that demonstrate originality and authenticity while valuing design\, styling and elegance.&nbsp\;ON STAGE MAY 18: THE DARDENS \\ 11:00 a.m. - 2 p.m.&nbsp\;</p>\n
LOCATION:Muckenthaler Cultural Center 1201 W. Malvern ave. Fullerton\, CA 92833
UID:e.887.23283
SEQUENCE:3
DTSTAMP:20260422T054447Z
URL:https://business.nocchamber.com/events/details/25th-anniversary-muckenthaler-motor-car-festival-23283
END:VEVENT

END:VCALENDAR
