BEGIN:VCALENDAR
VERSION:2.0
PRODID:-//ChamberMaster//Event Calendar 2.0//EN
METHOD:PUBLISH
X-PUBLISHED-TTL:P3D
REFRESH-INTERVAL:P3D
CALSCALE:GREGORIAN
BEGIN:VEVENT
DTSTART:20190519T170000Z
DTEND:20190519T230000Z
X-MICROSOFT-CDO-ALLDAYEVENT:FALSE
SUMMARY:25th Anniversary Muckenthaler Motor Car Festival
DESCRIPTION:Concours d' Elegance Show\n\nStroll the lush grounds of the Muckenthaler while enjoying rare and exotic restored classics of the automotive industry. Plus food\, craft beer\, vendors and more. ON STAGE MAY 19: JANET KLEIN AND HER PARLOR BOYS\, 11:00 a.m. - 1:00 p.m.
X-ALT-DESC;FMTTYPE=text/html:<p>Concours d&rsquo\; Elegance Show</p>\n\n<p>Stroll the lush grounds of the Muckenthaler while enjoying rare and exotic restored classics of the automotive industry. Plus food\, craft beer\, vendors and more.&nbsp\;ON STAGE MAY 19: JANET KLEIN AND HER PARLOR BOYS\, 11:00 a.m. - 1:00 p.m.</p>\n
LOCATION:Muckenthaler Cultural Center 1201 West Malvern Ave.\, Fullerton\, CA 92833
UID:e.887.23284
SEQUENCE:3
DTSTAMP:20260422T054924Z
URL:https://business.nocchamber.com/events/details/25th-anniversary-muckenthaler-motor-car-festival-05-19-2019-23284
END:VEVENT

END:VCALENDAR
