BEGIN:VCALENDAR
VERSION:2.0
PRODID:-//ChamberMaster//Event Calendar 2.0//EN
METHOD:PUBLISH
X-PUBLISHED-TTL:P3D
REFRESH-INTERVAL:P3D
CALSCALE:GREGORIAN
BEGIN:VEVENT
DTSTART:20180910T150000Z
DTEND:20180911T010000Z
X-MICROSOFT-CDO-ALLDAYEVENT:FALSE
SUMMARY:21st Annual Fallen Four Golf Tournament 2018
DESCRIPTION:Buena Park Police Association is hosting their 21st Annual "Fallen Four Memorial Golf Tournament."\n\n\n\nThe tournament will be honoring four police officers who made great sacrifices to protect the City of Buena Park: Bud Cate\, Shayne York\, Tyler Pinchot\, and Daniel Ackerman.\n\n \n\nThrough the game of golf\, fellow law enforcement personnel and community members will gather together to pay continued homage to the fallen heroes and their families. With the tournament support\, the Buena Park Police Association is able to provide the necessary requisites to facilitate continued healing to members and their families as they continue to experience the emotional trials of losing a loved one in the line of duty.\n\n \n\nFor the second year\, the Buena Park Police Association is proud to partner with the Giving Children Hope organization and the American Cancer Society. The American Cancer Society is known for raising money to conduct cancer research and help combat this life-threatening disease. Giving Children Hope is a local charity whose primary focus is to provide disadvantaged families with life's critical essentials such as food\, clothing\, school supplies and medical care. A portion of this year's golf tournament proceeds will be donated in the names of the fallen officers to these two charities.\n\n \n\nThere are various ways to participate and contribute by playing\, sponsorship\, raffles prizes or a donation alone. The Buena Park Police Department respectfully asks for assistance from local businesses by ways of donation\, whether small or large\, to support the Fallen Four Memorial Golf Tournament.\n\n\n\nThe Fallen Four Memorial Golf Tournament will take place on Monday\, September 10\, 2018\, at the Los Coyotes Country Club. Registration begins at 8:00 a.m. and shotgun starts at 10:00 a.m.\n\n\n\nPlease complete and return the attached registration form.\n\n \n\nFor further questions or information\, contact:\n\nFrank Nunes at (714) 420-1881 or email at fnunes@bppd.com\n\nDirk O'Dette at (714) 720-5102 or by email at dodette@bppd.com.
X-ALT-DESC;FMTTYPE=text/html:<br />\nBuena Park Police Association is hosting their 21st Annual &ldquo\;<strong><a href="https://chambermaster.blob.core.windows.net/userfiles/UserFiles/chambers/887/File/POAGolfTourneyTriFold.pdf">Fallen Four Memorial Golf Tournament</a>.</strong>&quot\;<br />\n<br />\nThe tournament will be honoring four police officers who made great sacrifices to protect the City of Buena Park:&nbsp\;<strong>Bud Cate\, Shayne York\, Tyler Pinchot\, and Daniel Ackerman.</strong><br />\n&nbsp\;<br />\nThrough the game of golf\, fellow law enforcement personnel and community members will gather together to pay continued homage to the fallen heroes and their families. With the tournament support\, the Buena Park Police Association is able to provide the necessary requisites to facilitate continued healing to members and their families as they continue to experience the emotional trials of losing a loved one in the line of duty.<br />\n&nbsp\;<br />\nFor the second year\, the Buena Park Police Association is proud to partner with the Giving Children Hope organization and the American Cancer Society. The American Cancer Society is known for raising money to conduct cancer research and help combat this life-threatening disease.&nbsp\;Giving Children Hope is a local charity whose primary focus is to provide disadvantaged families with life&rsquo\;s critical essentials such as food\, clothing\, school supplies and medical care.&nbsp\;A portion of this year&rsquo\;s golf tournament proceeds will be donated in the names of the fallen officers to these two charities.<br />\n&nbsp\;<br />\nThere are various ways to participate and contribute&nbsp\;by playing\, sponsorship\, raffles prizes or a donation alone. The Buena Park Police Department respectfully asks for assistance from local businesses by ways of donation\, whether small or large\, to support the Fallen Four Memorial Golf Tournament.<br />\n<br />\nThe Fallen Four Memorial Golf Tournament will take place on&nbsp\;<strong>Monday\, September 10\, 2018</strong>\, at the Los Coyotes Country Club.&nbsp\;Registration begins at&nbsp\;<strong>8:00 a.m.</strong>&nbsp\;and shotgun starts at 10:00 a.m.<br />\n<br />\nPlease complete and return&nbsp\;<a href="https://chambermaster.blob.core.windows.net/userfiles/UserFiles/chambers/887/File/POAGolfTourneyTriFold.pdf">the attached registration form</a>.<br />\n&nbsp\;<br />\nFor further questions or information\, contact:<br />\nFrank Nunes at (714) 420-1881 or email at&nbsp\;<a href="mailto:fnunes@bppd.com">fnunes@bppd.com</a><br />\nDirk O&rsquo\;Dette at (714) 720-5102 or by email at&nbsp\;<a href="mailto:dodette@bppd.com">dodette@bppd.com</a>.
LOCATION:Los Coyotes Country Club 888 Los Coyotes Drive Buena Park\, CA 90621
UID:e.887.22517
SEQUENCE:3
DTSTAMP:20260422T123529Z
URL:https://business.nocchamber.com/events/details/21st-annual-fallen-four-golf-tournament-2018-22517
END:VEVENT

END:VCALENDAR
