BEGIN:VCALENDAR
VERSION:2.0
PRODID:-//ChamberMaster//Event Calendar 2.0//EN
METHOD:PUBLISH
X-PUBLISHED-TTL:P3D
REFRESH-INTERVAL:P3D
CALSCALE:GREGORIAN
BEGIN:VEVENT
DTSTART:20190607T173000Z
DTEND:20190607T210000Z
X-MICROSOFT-CDO-ALLDAYEVENT:FALSE
SUMMARY:2019 Small Business Week Awards at the Disneyland Hotel
DESCRIPTION:In 1963\, the President of the United States issued a proclamation announcing National Small Business Week\, which recognizes the critical contributions of America's entrepreneurs and small business owners. More than half of Americans either own or work for a small business and they create two out of every three new jobs in the U.S. each year. National Small Business Week takes the opportunity to highlight the impact of outstanding entrepreneurs\, small business owners\, and others. Every day they're working to grow small businesses\, by creating 21st-century jobs\, driving innovation\, and increasing America's global competitiveness.\n\nYou are invited to join in recognizing the 2019 Small Business Owner Champions at the Annual Small Business Awards Luncheon on\n\nFriday\, June 7th\, 2019\n\nAt the Disneyland Hotel Grand Ballroom\n\n1150 Magic Way\, Anaheim\, CA 92802\n\nRegistration/Networking begins at 10:30 am and Program at 11:45 am.\n\nFor additional information\, call (949) 891-1464 or email.
X-ALT-DESC;FMTTYPE=text/html:<p>In 1963\, the President of the United States issued a proclamation announcing National Small Business Week\, which recognizes the critical contributions of America&rsquo\;s entrepreneurs and small business owners. More than half of Americans either own or work for a small business and they create two out of every three new jobs in the U.S. each year. National Small Business Week takes the opportunity to highlight the impact of outstanding entrepreneurs\, small business owners\, and others. Every day they&rsquo\;re working to grow small businesses\, by creating 21st-century jobs\, driving innovation\, and increasing America&rsquo\;s global competitiveness.</p>\n\n<p>You are invited to join&nbsp\;in recognizing the 2019 Small Business Owner Champions at the Annual Small Business Awards Luncheon on</p>\n\n<p>Friday\, June 7th\, 2019<br />\nAt the Disneyland Hotel Grand Ballroom<br />\n1150 Magic Way\, Anaheim\, CA 92802</p>\n\n<p>Registration/Networking begins at 10:30 am and Program at 11:45 am.</p>\n\n<p>For additional information\, call (949) 891-1464 or <a href="mailto:events@ochcc.com">email</a>.</p>\n
LOCATION:Disneyland Hotel Grand Ballroom 1150 Magic Way\, Anaheim\, CA 92802
UID:e.887.23385
SEQUENCE:3
DTSTAMP:20260422T041935Z
URL:https://business.nocchamber.com/events/details/2019-small-business-week-awards-at-the-disneyland-hotel-23385
END:VEVENT

END:VCALENDAR
