BEGIN:VCALENDAR
VERSION:2.0
PRODID:-//ChamberMaster//Event Calendar 2.0//EN
METHOD:PUBLISH
X-PUBLISHED-TTL:P3D
REFRESH-INTERVAL:P3D
CALSCALE:GREGORIAN
BEGIN:VEVENT
DTSTART:20190415T150000Z
DTEND:20190416T020000Z
X-MICROSOFT-CDO-ALLDAYEVENT:FALSE
SUMMARY:2019 Hoby Brenner Golf Tournament
DESCRIPTION:Golfing for a Cause. Your participation in this event supports the kids in Fullerton. Each year\, this tournament raises money to help programs in Academic support\, Leadership\, and Healthy Lifestyles.\n\n\n\n By reaching youth at an early age and providing positive activities and encouragement\, our Club provides a compelling alternative to youth crime\, gang membership\, drugs\, and other negative influences that affect youth today.\n\n\n\n These programs promote the development of young people by insitilling a sense of competence\, usefulness\, influence and belonging. When this strategy is fullly implemented\, self-esteem is enhanced and encironment is created which helps our members achieve their full potential.
X-ALT-DESC;FMTTYPE=text/html:<p>Golfing for a Cause. Your participation in this event supports the kids in Fullerton. Each year\, this tournament raises money to help programs in Academic support\, Leadership\, and Healthy Lifestyles.<br />\n<br />\n&#8203\;By reaching youth at an early age and providing positive activities and encouragement\, our Club provides a compelling alternative to youth crime\, gang membership\, drugs\, and other negative influences that affect youth today.<br />\n<br />\n&#8203\;These programs promote the development of young people by insitilling a sense of competence\, usefulness\, influence and belonging. When this strategy is fullly implemented\, self-esteem is enhanced and encironment is created which helps our members achieve their full potential.</p>\n
LOCATION:Hacienda Golf Club 718 East Road La Habra Heights\, CA 90631
UID:e.887.22982
SEQUENCE:3
DTSTAMP:20260422T065335Z
URL:https://business.nocchamber.com/events/details/2019-hoby-brenner-golf-tournament-22982
END:VEVENT

END:VCALENDAR
