BEGIN:VCALENDAR
VERSION:2.0
PRODID:-//ChamberMaster//Event Calendar 2.0//EN
METHOD:PUBLISH
X-PUBLISHED-TTL:P3D
REFRESH-INTERVAL:P3D
CALSCALE:GREGORIAN
BEGIN:VEVENT
DTSTART:20190405T233000Z
DTEND:20190406T023000Z
X-MICROSOFT-CDO-ALLDAYEVENT:FALSE
SUMMARY:2019 Fullerton School District Fest
DESCRIPTION:The 1st annual FSD fest showcasing student passions and interests. Come explore and celebrate with FSD students.
X-ALT-DESC;FMTTYPE=text/html:The 1st annual FSD fest showcasing student passions and interests. Come explore and celebrate with FSD students.
LOCATION:Anaheim Hilton 777 W. Convention Way Anaheim\, CA 92802
UID:e.887.23096
SEQUENCE:3
DTSTAMP:20260422T080628Z
URL:https://business.nocchamber.com/events/details/2019-fullerton-school-district-fest-23096
END:VEVENT

END:VCALENDAR
