BEGIN:VCALENDAR
VERSION:2.0
PRODID:-//ChamberMaster//Event Calendar 2.0//EN
METHOD:PUBLISH
X-PUBLISHED-TTL:P3D
REFRESH-INTERVAL:P3D
CALSCALE:GREGORIAN
BEGIN:VEVENT
DTSTART:20191102T010000Z
DTEND:20191102T030000Z
X-MICROSOFT-CDO-ALLDAYEVENT:FALSE
SUMMARY:2019 CSUF Hall of Fame Dinner
DESCRIPTION:Celebrate the many accomplishments of the newest Titan Athletics Hall of Fame members. The eighth class of inductees will be honored at the 2019 Hall of Fame Dinner.\n\n\n\nAll proceeds from this event directly benefit Titan Athletics.
X-ALT-DESC;FMTTYPE=text/html:Celebrate the many accomplishments of the newest Titan Athletics Hall of Fame members. The eighth class of inductees will be honored at the 2019 Hall of Fame Dinner.<br />\n<br />\nAll proceeds from this event directly benefit Titan Athletics.
LOCATION:Embassy Suites by Hilton Brea 900 E. Birch St. Brea\, CA 92821
UID:e.887.23763
SEQUENCE:3
DTSTAMP:20260421T214232Z
URL:https://business.nocchamber.com/events/details/2019-csuf-hall-of-fame-dinner-23763
END:VEVENT

END:VCALENDAR
