BEGIN:VCALENDAR
VERSION:2.0
PRODID:-//ChamberMaster//Event Calendar 2.0//EN
METHOD:PUBLISH
X-PUBLISHED-TTL:P3D
REFRESH-INTERVAL:P3D
CALSCALE:GREGORIAN
BEGIN:VEVENT
DTSTART:20190403T160000Z
DTEND:20190403T200000Z
X-MICROSOFT-CDO-ALLDAYEVENT:FALSE
SUMMARY:2019 Central Orange County Job Fair
DESCRIPTION:Orange County Community Services and Supervisor Andrew Do invite you to the 2019 Central Orange County Job Fair on Wednesday\, April 3\, 2019 from 9:00 a.m. to 1:00 p.m. at Freedom Hall at Mile Square Park.\n\n	No admission fee\n	No parking fee\n	Resume critique available\n	Bring copies of your resume\n	Dress professionally\n\n Priority registration table for veterans.\n\n\n\nFor more information\, please call (714) 241-4901 or visit www.oconestop.com or www.occommunityservices.org.
X-ALT-DESC;FMTTYPE=text/html:Orange County Community Services and Supervisor Andrew Do invite you to the 2019 Central Orange County Job Fair on Wednesday\, April 3\, 2019 from 9:00 a.m. to 1:00 p.m. at Freedom Hall at Mile Square Park.\n<ul>\n	<li>No admission fee</li>\n	<li>No parking fee</li>\n	<li>Resume critique available</li>\n	<li>Bring copies of your resume</li>\n	<li>Dress professionally</li>\n</ul>\n&#8203\;Priority registration table for veterans.\n\n<ul>\n</ul>\nFor more information\, please call (714) 241-4901 or visit <a href="http://www.oconestop.com" target="_blank">www.oconestop.com</a> or <a href="http://www.occommunityservices.org" target="_blank">www.occommunityservices.org</a>.\n\n<div>&nbsp\;</div>\n
LOCATION:Freedom Hall at Mile Square Park 16801 Euclid Street Fountain Valley\, CA 92708
UID:e.887.23056
SEQUENCE:3
DTSTAMP:20260422T065509Z
URL:https://business.nocchamber.com/events/details/2019-central-orange-county-job-fair-23056
END:VEVENT

END:VCALENDAR
