BEGIN:VCALENDAR
VERSION:2.0
PRODID:-//ChamberMaster//Event Calendar 2.0//EN
METHOD:PUBLISH
X-PUBLISHED-TTL:P3D
REFRESH-INTERVAL:P3D
CALSCALE:GREGORIAN
BEGIN:VEVENT
DTSTART:20180308T010000Z
DTEND:20180308T043000Z
X-MICROSOFT-CDO-ALLDAYEVENT:FALSE
SUMMARY:2018 Western Roundup
DESCRIPTION:The Western Round Up is a fundraiser benefiting the members and programs at the Boys & Girls Club of Buena Park. The event will include dinner\, drinks\, a silent auction\, music\, the Ghost Rider roller coaster\, the Blacksmith Wild West Stunt Show\, and a shooting gallery.  \n\n\n\nRegister online here or call Brian Reider at (714) 522- 7259
X-ALT-DESC;FMTTYPE=text/html:The Western Round Up is a fundraiser benefiting the&nbsp\;members and programs at the Boys &amp\; Girls Club of Buena Park. The event will include dinner\, drinks\, a silent auction\, music\, the Ghost Rider roller coaster\, the Blacksmith Wild West Stunt Show\, and a shooting gallery.&nbsp\;&nbsp\;<br />\n<br />\nRegister online <a href="https://secureonlinegiving.com/events/site/items.asp?eventID=2104">here </a>or call Brian Reider at (714) 522- 7259
LOCATION:Knott's Berry Farm - Ghost Town 8039 Beach Blvd. Buena Park\, CA 90620
UID:e.887.17781
SEQUENCE:3
DTSTAMP:20260422T004423Z
URL:https://business.nocchamber.com/events/details/2018-western-roundup-17781
END:VEVENT

END:VCALENDAR
