BEGIN:VCALENDAR
VERSION:2.0
PRODID:-//ChamberMaster//Event Calendar 2.0//EN
METHOD:PUBLISH
X-PUBLISHED-TTL:P3D
REFRESH-INTERVAL:P3D
CALSCALE:GREGORIAN
BEGIN:VEVENT
DTSTART:20190810T170000Z
DTEND:20190810T200000Z
X-MICROSOFT-CDO-ALLDAYEVENT:FALSE
SUMMARY:1st Annual Education Fair
DESCRIPTION:The Orange County Regional Planning Unit (OCRPU) invites you to attend the 1st Annual Education Fair to be held on Saturday\, August 10th\, 2019 at the Fullerton Community Center located at 340 W. Commonwealth Ave.\, Fullerton\, CA 92832 from 10:00 a.m. to 1:00 p.m.\n\n\n\nThere will be career & educational opportunities\, interactive workshops\, raffle prizes and more.
X-ALT-DESC;FMTTYPE=text/html:The Orange County Regional Planning Unit (OCRPU) invites you to attend the&nbsp\;1st&nbsp\;Annual Education Fair&nbsp\;to be held on Saturday\, August 10th\, 2019 at the Fullerton Community Center located at 340 W. Commonwealth Ave.\, Fullerton\, CA 92832 from 10:00 a.m. to 1:00 p.m.<br>\n<br>\nThere will be career &amp\; educational opportunities\, interactive workshops\, raffle prizes and more.&nbsp\;<br>\n&nbsp\;
LOCATION:Fullerton Community Center 340 W Commonwealth Ave. Fullerton CA\, 92832
UID:e.887.23452
SEQUENCE:3
DTSTAMP:20260422T015227Z
URL:https://business.nocchamber.com/events/details/1st-annual-education-fair-23452
END:VEVENT

END:VCALENDAR
