BEGIN:VCALENDAR
VERSION:2.0
PRODID:-//ChamberMaster//Event Calendar 2.0//EN
METHOD:PUBLISH
X-PUBLISHED-TTL:P3D
REFRESH-INTERVAL:P3D
CALSCALE:GREGORIAN
BEGIN:VEVENT
DTSTART:20180419T150000Z
DTEND:20180419T233000Z
X-MICROSOFT-CDO-ALLDAYEVENT:FALSE
SUMMARY:17th Annual Municipal Green Building Conference (MGBCE) & Expo"Innovative Cities Leading the Way to A Sustainable Future"
DESCRIPTION:Want access to Southern California's leaders in green building?\n\nThe 2017 Municipal Green Building Conference and Expo offers an exciting and unique opportunity to reach Municipal decision-makers in Southern California. Demonstrate your support for sustainable building throughout the Southland and the U.S. Green Building Council's education mission by becoming an exhibitor.\n\n\n\nWHY EXHIBIT AT MGBCE?\n\n\n\nEach year our exhibitors tell us that MGBCE is a worthwhile investment for their company. With a ratio of attendees to exhibitors of approximately 26 to 1\, and a constant flow of visitors throughout the day\, the unique layout of Southern California Gas Company's Energy Resource Center provides exhibitors with maximum visibility and placement right in the middle of the action.\n\n\n\n\nSince its inception in 2001\, MGBCE has become the longest-running and largest gathering of leading sustainability and green building advocates within both the public and private sectors in southern California. Attended by over 550 persons annually\, this conference and trade show provides cutting-edge thought leadership education and networking opportunities to inform local government agencies\, building industry professionals and the general public about the principles\, practices and products associated with green building. Over twenty exhibitors will display their sustainability solutions\, and this year will include clean-tech start-up companies that are finalists of the Smart City Tech Genius Challenge. Topics range from  Agriculture to Zero Net Energy and support cities to lead the way to a sustainable future.\n\n\n\nThis year's theme is Innovative Cities Leading the Way to A Sustainable Future.\n\n\n\nMorning Keynote Speaker: Seleta Reynolds\, General Manager of the Department of Transportation\n\n\n\nAfternoon Keynote Speaker: Gary Gero\, Chief Sustainability Officer for Los Angeles County
X-ALT-DESC;FMTTYPE=text/html:<div>\n<div>\n<div aria-hidden="false" data-bind="attr:{id: 'detailsModal' + evtId}" id="detailsModal45076" role="dialog" tabindex="-1">\n<div role="document">\n<div>\n<div>\n<div data-bind="html: noteBody">\n<div>\n<div id="cid_4">\n<div data-component="text" id="text_4">Want access to Southern California&#39\;s leaders in green building?<br />\nThe 2017 Municipal Green&nbsp\;Building Conference and Expo offers an exciting and unique opportunity to&nbsp\;reach Municipal decision-makers in Southern California. Demonstrate your support for&nbsp\;sustainable building throughout the Southland and the U.S. Green Building Council&rsquo\;s&nbsp\;education mission by becoming an exhibitor.<br />\n<br />\nWHY EXHIBIT AT MGBCE?<br />\n<br />\nEach year our exhibitors tell us that MGBCE is a worthwhile investment for their company. With a ratio of attendees to exhibitors of approximately 26 to 1\, and a constant flow of visitors&nbsp\;throughout the day\, the unique layout of Southern California Gas Company&#39\;s Energy Resource&nbsp\;Center provides exhibitors with maximum visibility and placement right in the middle of the&nbsp\;action.</div>\n</div>\n\n<p><br />\nSince its inception in 2001\, MGBCE has become the longest-running and largest gathering of leading sustainability and green building advocates within both the public and private sectors in southern California. Attended by over 550 persons annually\, this conference and trade show provides cutting-edge thought leadership education and networking opportunities to inform local government agencies\, building industry professionals and the general public about the principles\, practices and products associated with green building. Over twenty exhibitors will display their sustainability solutions\, and this year will include clean-tech start-up companies that are finalists of the Smart City Tech Genius Challenge. Topics range from &nbsp\;Agriculture to Zero Net Energy and support cities to lead the way to a sustainable future.</p>\n\n<p><br />\nThis year&rsquo\;s theme is Innovative Cities Leading the Way to A Sustainable Future.<br />\n<br />\nMorning Keynote Speaker: Seleta Reynolds\, General Manager of the Department of Transportation<br />\n<br />\nAfternoon Keynote Speaker: Gary Gero\, Chief Sustainability Officer for Los Angeles County</p>\n</div>\n</div>\n</div>\n</div>\n</div>\n</div>\n</div>\n</div>\n
LOCATION:Energy Resource Center 9240 Firestone Blvd Downey\, CA 90241
UID:e.887.18204
SEQUENCE:3
DTSTAMP:20260421T232345Z
URL:https://business.nocchamber.com/events/details/17th-annual-municipal-green-building-conference-mgbce-expo-innovative-cities-leading-the-way-to-a-sustainable-future-18204
END:VEVENT

END:VCALENDAR
