BEGIN:VCALENDAR
VERSION:2.0
PRODID:-//ChamberMaster//Event Calendar 2.0//EN
METHOD:PUBLISH
X-PUBLISHED-TTL:P3D
REFRESH-INTERVAL:P3D
CALSCALE:GREGORIAN
BEGIN:VEVENT
DTSTART:20170330T183000Z
DTEND:20170330T203000Z
X-MICROSOFT-CDO-ALLDAYEVENT:FALSE
SUMMARY:17th Annual Fullerton State of the City
DESCRIPTION:The NOC Chamber hosts the annual state of the city for the City of Fullerton. This event is an excellent opportunity to hear from  Mayor Bruce Whitaker of Fullerton about what is happening in the community to continue the growth that everyone is striving for. Hosted on the CSU Fullerton campus this event draws a large crowd from all over Fullerton.\n\nThe 2017 State of The City will be held at the CSU Titan Student Center on Thursday\, March 30th.
X-ALT-DESC;FMTTYPE=text/html:<p style="margin: 0px 0px 15px\; padding: 0px\; border: 0px\; font-variant-numeric: inherit\; font-stretch: inherit\; line-height: 21px\; font-family: Helvetica\, Arial\, sans-serif\; vertical-align: baseline\;">The NOC Chamber hosts the annual state of the city for the City of Fullerton. This event is an excellent opportunity to hear from&nbsp\; Mayor Bruce Whitaker of Fullerton about what is happening in the community to continue the growth that everyone is striving for. Hosted on the CSU Fullerton campus this event draws a large crowd from all over Fullerton.</p>\n\n<p style="margin: 0px 0px 15px\; padding: 0px\; border: 0px\; font-variant-numeric: inherit\; font-stretch: inherit\; line-height: 21px\; font-family: Helvetica\, Arial\, sans-serif\; vertical-align: baseline\;">The 2017 State of The City will be held at the CSU Titan Student Center on Thursday\, March 30th.</p>\n
LOCATION:CSU Fullerton Titan Student Union 800 N. State College Blvd. Fullerton Campus Map
UID:e.887.14761
SEQUENCE:3
DTSTAMP:20260421T163541Z
URL:https://business.nocchamber.com/events/details/17th-annual-fullerton-state-of-the-city-14761
END:VEVENT

END:VCALENDAR
